BEGIN:VCALENDAR
VERSION:2.0
PRODID:DPCALENDAR
CALSCALE:GREGORIAN
BEGIN:VTIMEZONE
TZID:Europe/Prague
X-MICROSOFT-CDO-TZID:6
BEGIN:STANDARD
DTSTART:20251026T010000
TZOFFSETFROM:+0200
TZOFFSETTO:+0100
TZNAME:CET
END:STANDARD
BEGIN:STANDARD
DTSTART:20261025T010000
TZOFFSETFROM:+0200
TZOFFSETTO:+0100
TZNAME:CET
END:STANDARD
BEGIN:DAYLIGHT
DTSTART:20260329T010000
TZOFFSETFROM:+0100
TZOFFSETTO:+0200
TZNAME:CEST
END:DAYLIGHT
END:VTIMEZONE
X-WR-TIMEZONE:Europe/Prague
BEGIN:VEVENT
DTSTART;VALUE=DATE:20240508
DTEND;VALUE=DATE:20240513
UID:E45BAE81-B2D1-4195-9042-E41036C4A63B
SUMMARY:Příprava na ME
CREATED:20250915T095357Z
DTSTAMP:20250915T095357Z
URL:https://www.czechbowls.cz/index.php/k-trenink-a-metodika/priprava-na-me
DESCRIPTION:Reprezentace + zájemci.
X-ALT-DESC;FMTTYPE=text/html:<p>Reprezentace + zájemci.</p>
LAST-MODIFIED:20251001T211936Z
SEQUENCE:1423539
LOCATION:Edinburgh\, Velká Británie a Severní Irsko
GEO:55.95190180;-3.19041990
X-LOCATION-DISPLAYNAME:Edinburgh, Skotsko
X-ACCESS:1
X-HITS:3
X-COLOR:ffdfd1
X-SHOW-END-TIME:1
END:VEVENT
BEGIN:VEVENT
DTSTART;VALUE=DATE:20250508
DTEND;VALUE=DATE:20250512
UID:5FD0379A-93A9-4DC8-AF30-39D8AFA167D2
SUMMARY:Trénink
CREATED:20250819T101744Z
DTSTAMP:20250819T101744Z
URL:https://www.czechbowls.cz/index.php/k-trenink-a-metodika/trenink
DESCRIPTION:Reprezentace + zájemci
X-ALT-DESC;FMTTYPE=text/html:<p>Reprezentace + zájemci</p>
LAST-MODIFIED:20251001T213125Z
SEQUENCE:3755621
LOCATION:Edinburgh\, Velká Británie a Severní Irsko
GEO:55.95190180;-3.19041990
X-LOCATION-DISPLAYNAME:Edinburgh, Skotsko
X-ACCESS:1
X-HITS:11
X-COLOR:ffdfd1
X-SHOW-END-TIME:1
END:VEVENT
BEGIN:VEVENT
DTSTART;VALUE=DATE:20260508
DTEND;VALUE=DATE:20260512
UID:CA04949D-97AA-4A40-A6EE-E39CBA6D3C39
SUMMARY:Přípravný Camp Edinburgh 2026
CREATED:20251113T061439Z
DTSTAMP:20251113T061439Z
URL:https://www.czechbowls.cz/index.php/k-trenink-a-metodika/pripravny-camp-edinburg-2026
LAST-MODIFIED:20260205T182241Z
SEQUENCE:7301282
LOCATION:Stoneycroft Road\, EH30 9HX City of Edinburgh\, Alba / Scotland\, Velká Británie a Severní Irsko
GEO:55.98862270;-3.39216780
X-LOCATION-DISPLAYNAME:Queensferry Bowling Club
X-ACCESS:1
X-HITS:1967
X-COLOR:ffdfd1
X-SHOW-END-TIME:0
END:VEVENT
BEGIN:VEVENT
DTSTART;VALUE=DATE:20260913
DTEND;VALUE=DATE:20260917
UID:83AE1854-2666-400F-81D7-58700A1E4465
SUMMARY:Přípravný camp
CREATED:20260111T234433Z
DTSTAMP:20260111T234433Z
URL:https://www.czechbowls.cz/index.php/k-trenink-a-metodika/european-bowls-championships-2
LAST-MODIFIED:20260205T182638Z
SEQUENCE:2140925
LOCATION:Centre Promenade\, BS1 4DA Bristol\, England\, Velká Británie a Severní Irsko
GEO:51.45380220;-2.59729850
X-LOCATION-DISPLAYNAME:Bristol
X-ACCESS:1
X-HITS:333
X-COLOR:ffdfd1
X-SHOW-END-TIME:0
END:VEVENT
END:VCALENDAR